Workbook
Name _: #REF!
Name _.: #REF!
Name __SBB1: #REF!
Name __SBB2: #REF!
Name __SBB3: #REF!
Name __SBB4: #REF!
Name __SBB5: #REF!
Name __SHH1: #REF!
Name __SHH2: #REF!
Name __SHH3: #REF!
Name _10Á_2È_Ç: #REF!
Name _14Á_2È_Ç: #REF!
Name _15A: [1]금액내역서!$D$3:$D$10
Name _15Á_3È_Ç: #REF!
Name _20Á_4È_Ç: #REF!
Name _21Á_3È_Ç: #REF!
Name _25Á_5È_Ç: #REF!
Name _28Á_4È_Ç: #REF!
Name _30Á_6È_Ç: #REF!
Name _35Á_5È_Ç: #REF!
Name _35av1_: #REF!
Name _42Á_6È_Ç: #REF!
Name _49av1_: #REF!
Name _5Á_1È_Ç: #REF!
Name _7Á_1È_Ç: #REF!
Name _aaa1: #REF!
Name _av1: #REF!
Name _C: #REF!
Name _DBB1: #REF!
Name _K11: #REF!
Name _K111: #REF!
Name _K1111: #REF!
Name _KK5000: #REF!
Name _MM1: [3]외자배분!$E$6
Name _MM2: [3]외자배분!$F$6
Name _Q2: #REF!
Name _SBB1: #REF!
Name _SBB2: #REF!
Name _SBB3: #REF!
Name _SBB4: #REF!
Name _SBB5: #REF!
Name _SHH1: #REF!
Name _SHH2: #REF!
Name _SHH3: #REF!
Name _TT1: [3]외자배분!$G$6
Name _TT2: [3]외자배분!$H$6
Name ¤±8529: #REF!
Name \a: #REF!
Name \b: #REF!
Name \c: #REF!
Name \d: #REF!
Name \P: #REF!
Name \x: #REF!
Name \z: #REF!
Name A: #REF!
Name A5D8: #REF!
Name AB_B: #REF!
Name AC: [4]예비품!$C$72
Name AD0: [5]환율!$I$20
Name AS0: [5]환율!$I$15

Sheet 총괄표
B2: 원 가 계 산 총 괄 표
B4: 구 분 | D4: 수 량 | E4: 단 가 | F4: 금 액
B5: 2026년도 항로표지선 샛별호 선체 수리용역 | C5: 갑판 | D5: 1식 | E5: 229082000 | F5: 229082000
B6: 합 계 | F6: 229082000
B8: 주) 1. 부가가치세 포함한 금액임.
B9: 2. 용역원가 계산서 참조

Sheet 간지-조사개요
A1: 총 괄 표
A2: 조 사 개 요
A3: 원가계산서
A4: 산 출 근 거
A5: 첨 부 자 료

Sheet 간지-원가계산서
A1: 총 괄 표
A2: 조 사 개 요
A3: 원가계산서
A4: 산 출 근 거
A5: 첨 부 자 료

Sheet 원가계산서(종합)
A1: 용 역 원 가 계 산 서
A2: 품 명 : 2026년도 항로표지선(샛별호) 상가수리 용역 - 종합
A3: 규 격 : 과업지시서 참조
A4: 비목 | C4: 구분 | D4: 금액 | E4: 구성비 | F4: 비 고
B5: 재 료 비 | C5: 직 접 재 료 비 | D5: ='원가계산서(갑판)'!D5+#REF! -> #REF!
C6: 간 접 재 료 비 | D6: ='원가계산서(갑판)'!D6+#REF! -> #REF! | F6: 직재비의3%+직노비의2%
C7: 작 업 설(-)
C8: 소 계 | D8: =ROUND(D5+D6-D7,2) -> #REF! | E8: =ROUNDDOWN(D8/$D$42,6) -> #REF!
B9: 노 무 비 | C9: 직 접 노 무 비 | D9: ='원가계산서(갑판)'!D9+#REF! -> #REF!
A10: 용 | C10: 간 접 노 무 비 | D10: ='원가계산서(갑판)'!D10+#REF! -> #REF! | F10: 직노비의 14.0%
C11: 소 계 | D11: =ROUNDUP(D9+D10,0) -> #REF! | E11: =ROUNDDOWN(D11/$D$42,6) -> #REF!
C12: 전 력 비 | D12: ='원가계산서(갑판)'!D12+#REF! -> #REF!
C13: 수 도 광 열 비 | D13: ='원가계산서(갑판)'!D13+#REF! -> #REF!
C14: 운 반 비 | D14: ='원가계산서(갑판)'!D14+#REF! -> #REF!
A15: 역 | C15: 기 계 경 비 | D15: ='원가계산서(갑판)'!D15+#REF! -> #REF!
B16: 경 | C16: 특허권 사용료 | D16: ='원가계산서(갑판)'!D16+#REF! -> #REF!
C17: 기 술 료 | D17: ='원가계산서(갑판)'!D17+#REF! -> #REF!
C18: 연 구 개 발 비 | D18: ='원가계산서(갑판)'!D18+#REF! -> #REF!
C19: 품 질 관 리 비 | D19: ='원가계산서(갑판)'!D19+#REF! -> #REF!
A20: 원 | C20: 가 설 비 | D20: ='원가계산서(갑판)'!D20+#REF! -> #REF!
C21: 지 급 임 차 료 | D21: ='원가계산서(갑판)'!D21+#REF! -> #REF!
C22: 보 험 료 | D22: ='원가계산서(갑판)'!D22+#REF! -> #REF!
C23: 복 리 후 생 비 | D23: ='원가계산서(갑판)'!D23+#REF! -> #REF!
C24: 보 관 비 | D24: ='원가계산서(갑판)'!D24+#REF! -> #REF!
A25: 가 | C25: 외 주 가 공 비 | D25: ='원가계산서(갑판)'!D25+#REF! -> #REF! | F25: 직접 경비
C26: 산업안전보건관리비 | D26: ='원가계산서(갑판)'!D26+#REF! -> #REF!
C27: 소 모 품 비 | D27: ='원가계산서(갑판)'!D27+#REF! -> #REF!
C28: 여비교통통신비 | D28: ='원가계산서(갑판)'!D28+#REF! -> #REF!
B29: 비 | C29: 세 금 과 공 과 | D29: ='원가계산서(갑판)'!D29+#REF! -> #REF!
C30: 폐기물 처리비 | D30: ='원가계산서(갑판)'!D30+#REF! -> #REF!
C31: 도 서 인 쇄 비 | D31: ='원가계산서(갑판)'!D31+#REF! -> #REF!
C32: 지 급 수 수 료 | D32: ='원가계산서(갑판)'!D32+#REF! -> #REF!
C33: 환 경 보 전 비 | D33: ='원가계산서(갑판)'!D33+#REF! -> #REF!
C34: 보 상 비 | D34: ='원가계산서(갑판)'!D34+#REF! -> #REF!
C35: 안 전 관 리 비 | D35: ='원가계산서(갑판)'!D35+#REF! -> #REF!
C36: 퇴직공제부금비 | D36: ='원가계산서(갑판)'!D36+#REF! -> #REF!
C37: 기타 법정 경비 | D37: ='원가계산서(갑판)'!D37+#REF! -> #REF!
C38: 감 가 상 각 비 | D38: ='원가계산서(갑판)'!D38+#REF! -> #REF!
C39: 하 자 보 수 비 | D39: ='원가계산서(갑판)'!D39+#REF! -> #REF!
C40: 현 장 관 리 비 | D40: ='원가계산서(갑판)'!D40+#REF! -> #REF!
...

Sheet 원가계산서(갑판)
A1: 용 역 원 가 계 산 서
A2: 품 명 : 2026년도 항로표지선 샛별호 선체 수리용역
A3: 규 격 : 과업지시서 참조
A4: 비목 | C4: 구분 | D4: 금액 | E4: 구성비 | F4: 비 고
B5: 재 료 비 | C5: 직 접 재 료 비
C6: 간 접 재 료 비 | F6: 직재비의3%+직노비의2% | H6: 산재보험 | I6: 0.024
C7: 작 업 설(-) | H7: 고용보험 | I7: 0.0115
C8: 소 계 | H8: 건강보험 | I8: 0.03545
B9: 노 무 비 | C9: 직 접 노 무 비 | H9: 장기요양보험 | I9: 0.1295
A10: 용 | C10: 간 접 노 무 비 | F10: 직노비의 14.0% | H10: 연금보험 | I10: 0.045
C11: 소 계
C12: 전 력 비
C13: 수 도 광 열 비
C14: 운 반 비
A15: 역 | C15: 기 계 경 비
B16: 경 | C16: 특허권 사용료
C17: 기 술 료
C18: 연 구 개 발 비
C19: 품 질 관 리 비
A20: 원 | C20: 가 설 비 | D20: 0
C21: 지 급 임 차 료 | D21: 0
C22: 보 험 료
C23: 복 리 후 생 비
C24: 보 관 비 | D24: 0
A25: 가 | C25: 외 주 가 공 비
C26: 산업안전보건관리비 | D26: ='[39]경비명(갑판)'!D18 -> 1347977
C27: 소 모 품 비 | D27: 0
C28: 여비교통통신비 | D28: 0
B29: 비 | C29: 세 금 과 공 과 | D29: 0
C30: 폐기물 처리비 | D30: 0
C31: 도 서 인 쇄 비 | D31: 0
C32: 지 급 수 수 료 | D32: 0
C33: 환 경 보 전 비
C34: 보 상 비 | D34: 0
C35: 안 전 관 리 비
C36: 퇴직공제부금비 | D36: 0
C37: 기타 법정 경비 | D37: 0
C38: 감 가 상 각 비 | D38: 0
C39: 하 자 보 수 비 | D39: 0
C40: 현 장 관 리 비 | D40: 0
...

Sheet 집계표
A1: 수 리 내 역 | B1: 재료비 | C1: 노무비 | D1: 경 비 | E1: 합 계 | F1: 비 고
A2: Ⅰ. 선체 수리
A3: 1. 선체 상가(강선 87톤)
A4: 2. 선체(선저~수선상부)도장면 바탕만들기, 철재면(POWER TOOL) 327.49㎡*27.5% = 90.05 ≒ 90㎡
A5: 3. 선저 방청(AC) 도장 2회
A6: 4. 선저 방오(AF) 도장 2회
A7: 5. 수선부 방청(AC)도장 2회
A8: 6. 수선상부 방청(AC) 도장 2회
A9: 7. 수선상부 도장 2회
A10: 8. 불워크 내,외면 바탕만들기 철재면 / POWER TOOL 340㎡ * 23% = 80㎡
A11: 9. 불워크 내,외면 방청(AC)도장 2회
A12: 10. 불워크 내,외면 마감 도장 2회
A13: 11. 상갑판 바탕만들기 철재면 / POWER TOOL 194㎡ * 20% = 39㎡
... A55: 계

Sheet 내역서
A2: 1 | B2: Ⅰ. 선체 수리
A3: =A2+1 -> 2 | B3: 1. 선체 상가(강선 87톤)
A4: =A3+1 -> 3 | B4: 가. 선체 상가 시 충격을 받지 않도록 전후 및 좌우를 견고하게 고정시키고 선체의 이곡 또는 만곡되지 않도록 사전에 방지하여야 한다.
A5: =A4+1 -> 4 | B5: 나. 선체 상가는 사전 감독관에게 상가일을 통보하여 준비에 차질이 없도록 하여야 한다.
A6: =A5+1 -> 5 | B6: 다. 선체 하가는 준공검사가 완료된 후 실시하여야 하나 기타 발주처의 형편상 조정 시행할 수 있다.
A7: =A6+1 -> 6 | B7: 항 목 | C7: 품 명 | D7: 규 격 | E7: 단위 | F7: 수 량 | G7: 단 가 | H7: 금 액 | I7: 산 출 근 거
A8: =A7+1 -> 7 | B8: 직접재료비 | C8: 상가료 | D8: 87톤 | E8: 척 | F8: 1
A9: =A8+1 -> 8 | C9: 체가료 | E9: 식 | F9: 1
A10: =A9+1 -> 9 | C10: 접안료 | E10: 식 | F10: 1
A11: =A10+1 -> 10 | C11: 예선료 | E11: 식 | F11: 2
A12: =A11+1 -> 11 | C12: 전기사용료 | E12: 식 | F12: 1
A13: =A12+1 -> 12 | C13: 1. 선저 및 수선상부 고압세척 2회 | D13: 87톤 | E13: ㎡ | F13: 441.8
A14: =A13+1 -> 13
A15: =A14+1 -> 14
A16: =A15+1 -> 15
A17: =A16+1 -> 16 | C17: 소 계
A18: =A17+1 -> 17 | B18: 직접노무비 | C18: 잠수부 | E18: 공수 | F18: 2
A19: =A18+1 -> 18 | C19: 특별인부 | E19: 공수
A20: =A19+1 -> 19 | C20: 보통인부 | E20: 공수
A21: =A20+1 -> 20 | C21: 도장공 | D21: 선저 및 수선상부 고압세척 2회 | E21: 공수 | F21: 1.77 | I21: (0.004인/㎡)*441.8㎡
A22: =A21+1 -> 21 | C22: 보통인부 | E22: 공수 | F22: 1.77 | I22: =I21 -> (0.004인/㎡)*441.8㎡
A23: =A22+1 -> 22
A24: =A23+1 -> 23 | C24: 소 계
A25: =A24+1 -> 24 | B25: 직접경비 | C25: 상가료 | D25: 87톤 | E25: 척 | F25: 1 | I25: slipway
A26: =A25+1 -> 25 | C26: 체가료 | E26: 일 | F26: 8 | I26: 상가료의 20%
A27: =A26+1 -> 26 | C27: 접안료 | E27: 일 | F27: 0 | I27: 87톤 x 100원/일
A28: =A27+1 -> 27 | C28: 예선료 | D28: 1,000HP 상·하가 | E28: 척 | F28: 2
A29: =A28+1 -> 28 | C29: 전기사용료 | E29: 식 | F29: 1
A30: =A29+1 -> 29
A31: =A30+1 -> 30
A32: =A31+1 -> 31 | C32: 소 계
A33: =A32+1 -> 32 | B33: 계
A34: 1 | B34: 2. 선체(선저~수선상부)도장면 바탕만들기, 철재면(POWER TOOL) 327.49㎡*27.5% = 90.05 ≒ 90㎡
A35: =A34+1 -> 2 | B35: 1) 기존에 도색된 페인트 종류를 파악하여 재도장에 이상이 있을 경우 감독자에게 보고하여야 한다.
A36: =A35+1 -> 3 | B36: 2) 선체의 표면에 기름 등의 오염물질이 있을 시 긁어 내는 등의 방법으로 불순물을 완전히 제거한 후 도장작업에 임하여야 한다.
A37: =A36+1 -> 4 | B37: 3) 선체면 및 선저부의 해초, 이물질은 고압세척 등을 통해 깨끗이 제거하여야 한다.
A38: =A37+1 -> 5 | B38: 4) 수면 상부면은 그라인더 등으로 녹을 완전히 제거한 후 청수로 염분을 깨끗이 세척 건조 후 도장작업을 실시하여야 한다.
A39: =A38+1 -> 6 | B39: 5) 녹·유해한 부착물(먼지, 기름, 타르 등) 및 노화가 심한 낡은 구도막은 완전히 제거한다.
A40: =A39+1 -> 7 | B40: 6) 바탕만들기 공정의 종별(바탕의 종류 바탕만들기 공법)은 아래 표에 따르고 종별의 지시가 없을 때에는 철재면에는 3종, 아연 도금면에는 2종 또는 3종, 경금속 및 동합금면에는 2종으로 한다.
A41: =A40+1 -> 8 | B41: 항 목 | C41: 품 명 | D41: 규 격 | E41: 단위 | F41: 수 량 | G41: 단 가 | H41: 금 액 | I41: 산 출 근 거
...

Sheet 간지-첨부자료
A1: 총 괄 표
A2: 조 사 개 요
A3: 원가계산서
A4: 산 출 근 거
A5: 첨 부 자 료
