Workbook
Name _: #REF!
Name _.: #REF!
Name __SBB1: #REF!
Name __SBB2: #REF!
Name __SBB3: #REF!
Name __SBB4: #REF!
Name __SBB5: #REF!
Name __SHH1: #REF!
Name __SHH2: #REF!
Name __SHH3: #REF!
Name _10Á_2È_Ç: #REF!
Name _14Á_2È_Ç: #REF!
Name _15A: [1]금액내역서!$D$3:$D$10
Name _15Á_3È_Ç: #REF!
Name _20Á_4È_Ç: #REF!
Name _21Á_3È_Ç: #REF!
Name _25Á_5È_Ç: #REF!
Name _28Á_4È_Ç: #REF!
Name _30Á_6È_Ç: #REF!
Name _35Á_5È_Ç: #REF!
Name _35av1_: #REF!
Name _42Á_6È_Ç: #REF!
Name _49av1_: #REF!
Name _5Á_1È_Ç: #REF!
Name _7Á_1È_Ç: #REF!
Name _aaa1: #REF!
Name _av1: #REF!
Name _C: #REF!
Name _DBB1: #REF!
Name _K11: #REF!
Name _K111: #REF!
Name _K1111: #REF!
Name _KK5000: #REF!
Name _MM1: [3]외자배분!$E$6
Name _MM2: [3]외자배분!$F$6
Name _Q2: #REF!
Name _SBB1: #REF!
Name _SBB2: #REF!
Name _SBB3: #REF!
Name _SBB4: #REF!
Name _SBB5: #REF!
Name _SHH1: #REF!
Name _SHH2: #REF!
Name _SHH3: #REF!
Name _TT1: [3]외자배분!$G$6
Name _TT2: [3]외자배분!$H$6
Name ¤±8529: #REF!
Name \a: #REF!
Name \b: #REF!
Name \c: #REF!
Name \d: #REF!
Name \P: #REF!
Name \x: #REF!
Name \z: #REF!
Name A: #REF!
Name A5D8: #REF!
Name AB_B: #REF!
Name AC: [4]예비품!$C$72
Name AD0: [5]환율!$I$20
Name AS0: [5]환율!$I$15

Sheet 총괄표
B2: 원 가 계 산 총 괄 표
B4: 구 분 | D4: 수 량 | E4: 단 가 | F4: 금 액
B5: 2026년도 항로표지선 샛별호 기관 수리용역 | C5: 기관 | D5: 1식 | E5: 217707000 | F5: 217707000
B6: 합 계 | F6: 217707000
B8: 주) 1. 부가가치세 포함한 금액임.
B9: 2. 용역원가 계산서 참조

Sheet 간지-조사개요
A1: 총 괄 표
A2: 조 사 개 요
A3: 원가계산서
A4: 산 출 근 거
A5: 첨 부 자 료

Sheet 간지-원가계산서
A1: 총 괄 표
A2: 조 사 개 요
A3: 원가계산서
A4: 산 출 근 거
A5: 첨 부 자 료

Sheet 원가계산서(종합)
A1: 용 역 원 가 계 산 서
A2: 품 명 : 2026년도 항로표지선(샛별호) 상가수리 용역 - 종합
A3: 규 격 : 과업지시서 참조
A4: 비목 | C4: 구분 | D4: 금액 | E4: 구성비 | F4: 비 고
B5: 재 료 비 | C5: 직 접 재 료 비 | D5: =#REF!+'원가계산서(기관)'!D5 -> #REF!
C6: 간 접 재 료 비 | D6: =#REF!+'원가계산서(기관)'!D6 -> #REF! | F6: 직재비의3%+직노비의2%
C7: 작 업 설(-)
C8: 소 계 | D8: =ROUND(D5+D6-D7,2) -> #REF! | E8: =ROUNDDOWN(D8/$D$42,6) -> #REF!
B9: 노 무 비 | C9: 직 접 노 무 비 | D9: =#REF!+'원가계산서(기관)'!D9 -> #REF!
A10: 용 | C10: 간 접 노 무 비 | D10: =#REF!+'원가계산서(기관)'!D10 -> #REF! | F10: 직노비의 14.0%
C11: 소 계 | D11: =ROUNDUP(D9+D10,0) -> #REF! | E11: =ROUNDDOWN(D11/$D$42,6) -> #REF!
C12: 전 력 비 | D12: =#REF!+'원가계산서(기관)'!D12 -> #REF!
C13: 수 도 광 열 비 | D13: =#REF!+'원가계산서(기관)'!D13 -> #REF!
C14: 운 반 비 | D14: =#REF!+'원가계산서(기관)'!D14 -> #REF!
A15: 역 | C15: 기 계 경 비 | D15: =#REF!+'원가계산서(기관)'!D15 -> #REF!
B16: 경 | C16: 특허권 사용료 | D16: =#REF!+'원가계산서(기관)'!D16 -> #REF!
C17: 기 술 료 | D17: =#REF!+'원가계산서(기관)'!D17 -> #REF!
C18: 연 구 개 발 비 | D18: =#REF!+'원가계산서(기관)'!D18 -> #REF!
C19: 품 질 관 리 비 | D19: =#REF!+'원가계산서(기관)'!D19 -> #REF!
A20: 원 | C20: 가 설 비 | D20: =#REF!+'원가계산서(기관)'!D20 -> #REF!
C21: 지 급 임 차 료 | D21: =#REF!+'원가계산서(기관)'!D21 -> #REF!
C22: 보 험 료 | D22: =#REF!+'원가계산서(기관)'!D22 -> #REF!
C23: 복 리 후 생 비 | D23: =#REF!+'원가계산서(기관)'!D23 -> #REF!
C24: 보 관 비 | D24: =#REF!+'원가계산서(기관)'!D24 -> #REF!
A25: 가 | C25: 외 주 가 공 비 | D25: =#REF!+'원가계산서(기관)'!D25 -> #REF! | F25: 직접 경비
C26: 산업안전보건관리비 | D26: =#REF!+'원가계산서(기관)'!D26 -> #REF!
C27: 소 모 품 비 | D27: =#REF!+'원가계산서(기관)'!D27 -> #REF!
C28: 여비교통통신비 | D28: =#REF!+'원가계산서(기관)'!D28 -> #REF!
B29: 비 | C29: 세 금 과 공 과 | D29: =#REF!+'원가계산서(기관)'!D29 -> #REF!
C30: 폐기물 처리비 | D30: =#REF!+'원가계산서(기관)'!D30 -> #REF!
C31: 도 서 인 쇄 비 | D31: =#REF!+'원가계산서(기관)'!D31 -> #REF!
C32: 지 급 수 수 료 | D32: =#REF!+'원가계산서(기관)'!D32 -> #REF!
C33: 환 경 보 전 비 | D33: =#REF!+'원가계산서(기관)'!D33 -> #REF!
C34: 보 상 비 | D34: =#REF!+'원가계산서(기관)'!D34 -> #REF!
C35: 안 전 관 리 비 | D35: =#REF!+'원가계산서(기관)'!D35 -> #REF!
C36: 퇴직공제부금비 | D36: =#REF!+'원가계산서(기관)'!D36 -> #REF!
C37: 기타 법정 경비 | D37: =#REF!+'원가계산서(기관)'!D37 -> #REF!
C38: 감 가 상 각 비 | D38: =#REF!+'원가계산서(기관)'!D38 -> #REF!
C39: 하 자 보 수 비 | D39: =#REF!+'원가계산서(기관)'!D39 -> #REF!
C40: 현 장 관 리 비 | D40: =#REF!+'원가계산서(기관)'!D40 -> #REF!
...

Sheet 원가계산서(기관)
A1: 용 역 원 가 계 산 서
A2: 품 명 : 2026년도 항로표지선 샛별호 기관 수리용역
A3: 규 격 : 과업지시서 참조
A4: 비목 | C4: 구분 | D4: 금액 | E4: 구성비 | F4: 비 고
B5: 재 료 비 | C5: 직 접 재 료 비 | H5: 산재보험 | I5: 0.024
C6: 간 접 재 료 비 | F6: 직재비의3%+직노비의2% | H6: 고용보험 | I6: 0.0115
C7: 작 업 설(-) | H7: 건강보험 | I7: 0.03545
C8: 소 계 | H8: 장기요양보험 | I8: 0.1295
B9: 노 무 비 | C9: 직 접 노 무 비 | H9: 연금보험 | I9: 0.045
A10: 용 | C10: 간 접 노 무 비 | F10: 직노비의 14.0%
C11: 소 계
C12: 전 력 비 | D12: 0
C13: 수 도 광 열 비 | D13: 0
C14: 운 반 비 | D14: 0
A15: 역 | C15: 기 계 경 비 | D15: 0
B16: 경 | C16: 특허권 사용료 | D16: 0
C17: 기 술 료 | D17: 0
C18: 연 구 개 발 비 | D18: 0
C19: 품 질 관 리 비 | D19: 0
A20: 원 | C20: 가 설 비 | D20: 0
C21: 지 급 임 차 료 | D21: 0
C22: 보 험 료
C23: 복 리 후 생 비
C24: 보 관 비 | D24: 0
A25: 가 | C25: 외 주 가 공 비
C26: 산업안전보건관리비 | D26: ='[39]경비명(기관)'!D18 -> 1188033
C27: 소 모 품 비
C28: 여비교통통신비
B29: 비 | C29: 세 금 과 공 과
C30: 폐기물 처리비
C31: 도 서 인 쇄 비
C32: 지 급 수 수 료
C33: 환 경 보 전 비
C34: 보 상 비
C35: 안 전 관 리 비
C36: 퇴직공제부금비
C37: 기타 법정 경비 | D37: 0
C38: 감 가 상 각 비 | D38: 0
C39: 하 자 보 수 비 | D39: 0
C40: 현 장 관 리 비 | D40: 0
...

Sheet 집계표
A1: 수 리 내 역 | B1: 재료비 | C1: 노무비 | D1: 경 비 | E1: 합 계 | F1: 비 고
A2: Ⅱ. 기관 수리
A3: 1. 주기관 개방검사(MTU12V4000M60R×2대)
A4: 1) 실린더 헤드 분해소제 복구
A5: 2) 피스톤 분해소재 복구
A6: 3) 프런트 판넬 분해소제 복구
A7: 4) 리어 판넬 분해소제 복구
A8: 5) 크랭크샤프트 발출 소제 복구
A9: 6) 캠샤프트 발출 소제 복구
A10: 7) 실린더 블록 분해 소제 복구
A11: 8) 냉각수라인 분해소제 복구
A12: 9) 오일라인 분해소제 복구
A13: 10) 연료라인 분해소제 복구
... A57: 계

Sheet 내역서
A2: 1 | B2: Ⅱ. 기관 수리
A3: =A2+1 -> 2 | B3: 1. 주기관 개방검사(MTU12V4000M60R×2대)(기부속 : 관급)
A4: =A3+1 -> 3 | B4: =C14 -> 1) 실린더 헤드 분해소제 복구
A5: =A4+1 -> 4 | B5: 1) 좌․우현 주기관의 교체 부속품은 순정품(MTU 제작사에서 인정, 발행된 순정품 증명서)을 사용하여야 하며, 주기관 교체 부품에 대하여 감독관의 승인을 받은 후 감독관 입회하에 교체하여야 한다.
A6: =A5+1 -> 5 | B6: 2) 주기관 수리는 해당 메이커(MTU) 기술교육 이수자가 수리를 진행하도록 하며, 조립 완료 후 운전 결과에 이상이 없어야 한다.
A7: =A6+1 -> 6 | B7: 3) 각종 볼트 & 너트 조임 토크는 메이커의 수리보수 매뉴얼 지침을 따라야 한다.
A8: =A7+1 -> 7 | B8: 4) 주기관을 분해, 탈거하여 각부 수리 및 점검 완료 후 재조립(공장)하고, 감독관 입회하에 주기관 엔진 시험대를 이용하여 성능 시험 후 시험 성적서를 감독관에게 제출하여야 한다.
A9: =A8+1 -> 8 | B9: 5) 주기관 재조립(선박)시 탄성지지대 조정 및 센터링 작업을 통해 운전 중 진동, 이상이 없도록 조립·복구한다.
A10: =A9+1 -> 9 | B10: 6) 실린더 헤드 각부 및 부속품을 깨끗이 소제 후 밸브와 밸브 시트는 래핑 작업을 실시하고, 불량 부품과 오링은 신품으로 교체하여 운전 중 발열·누유·누수·누기가 없도록 조립·복구한다.
A11: =A10+1 -> 10 | B11: 7) 실린더 헤드 연소면 및 밸브에 침투탐상검사(PT검사-Color Check)를 이용하여 균열·이상이 없음을 감독관 입회하에 확인하여야 한다.
A12: =A11+1 -> 11 | B12: 8) 실린더 헤드 밸브 간극 점검 및 조정은 감독관 입회하여 MTU 매뉴얼에 맞게 간극 조정하여야 한다.
A13: =A12+1 -> 12 | B13: 항 목 | C13: 품 명 | D13: 규 격 | E13: 단위 | F13: 수 량 | G13: 단 가 | H13: 금 액 | I13: 산 출 근 거
A14: =A13+1 -> 13 | B14: 직접재료비 | C14: 1) 실린더 헤드 분해소제 복구 | E14: 개 | F14: 24
A15: =A14+1 -> 14 | C15: 기부속 | E15: 식 | F15: 2 | I15: 관급
A16: =A15+1 -> 15
A17: =A16+1 -> 16
A18: =A17+1 -> 17
A19: =A18+1 -> 18
A20: =A19+1 -> 19
A21: =A20+1 -> 20 | C21: 소 계
A22: =A21+1 -> 21 | B22: 직접노무비 | C22: 특급품질관리기술인 | E22: 공수 | F22: 7
A23: =A22+1 -> 22 | C23: 고급품질관리기술인 | E23: 공수 | F23: 0
A24: =A23+1 -> 23 | C24: 중급품질관리기술인 | E24: 공수 | F24: 0
A25: =A24+1 -> 24 | C25: 기계설비공 | E25: 공수 | F25: 7
A26: =A25+1 -> 25 | C26: 특별인부 | E26: 공수 | F26: 7
A27: =A26+1 -> 26 | C27: 보통인부 | E27: 공수 | F27: 7
A28: =A27+1 -> 27 | C28: 소 계
A29: =A28+1 -> 28 | B29: 직접 경비
A30: =A29+1 -> 29
A31: =A30+1 -> 30
A32: =A31+1 -> 31 | C32: 소 계
A33: =A32+1 -> 32 | B33: 계
A34: 1 | B34: =C39 -> 2) 피스톤 분해소재 복구
A35: =A34+1 -> 2 | B35: 11) 피스톤은 분해하여 각부를 깨끗이 소제하고, 피스톤링 및 불량 부품을 교체하여 운전 중 이상이 없도록 조립·복구한다.
A36: =A35+1 -> 3 | B36: 12) 피스톤은 MTU 매뉴얼에 맞게 계측치를 작성 후 결과지를 감독관에게 제출하고, 피스톤 크라운은 침투탐상검사(PT검사-Color Check)를 이용하여 균열·이상이 없음을 감독관 입회하에
A37: =A36+1 -> 4 | B37: 확인하여야 한다.
A38: =A37+1 -> 5 | B38: 항 목 | C38: 품 명 | D38: 규 격 | E38: 단위 | F38: 수 량 | G38: 단 가 | H38: 금 액 | I38: 산 출 근 거
A39: =A38+1 -> 6 | B39: 직접재료비 | C39: 2) 피스톤 분해소재 복구 | E39: 개 | F39: 24
A40: =A39+1 -> 7 | C40: 기부속 | E40: 식 | F40: 2 | I40: 관급
A41: =A40+1 -> 8
...
