Workbook
Name _10_3__Crite: #REF!
Name _10_3__Crite: #REF!
Name _10\MID: '[1]#REF'!#REF!
Name _10\MID: '[1]#REF'!#REF!
Name _11_3__Criteria: #REF!
Name _11_3__Criteria: #REF!
Name _12\SM: '[1]#REF'!#REF!
Name _12\SM: '[1]#REF'!#REF!
Name _12G__Extr: #REF!
Name _12G__Extr: #REF!
Name _13G__Extract: #REF!
Name _13G__Extract: #REF!
Name _14ME: '[3]#REF'!#REF!
Name _14ME: '[3]#REF'!#REF!
Name _15ME: '[3]#REF'!#REF!
Name _17_0\LA: '[1]#REF'!#REF!
Name _19_0\MID: '[1]#REF'!#REF!
Name _23_3__Crite: #REF!
Name _25_3__Crite: #REF!
Name _25_3__Crite: #REF!
Name _26_3__Criteria: #REF!
Name _28_3__Criteria: #REF!
Name _28_3__Criteria: #REF!
Name _3\LA: '[3]#REF'!#REF!
Name _3\LA: '[3]#REF'!#REF!
Name _30G__Extr: #REF!
Name _30G__Extr: #REF!
Name _32G__Extract: #REF!
Name _32G__Extract: #REF!
Name _34ME: '[1]#REF'!#REF!
Name _34ME: '[1]#REF'!#REF!
Name _36ME: '[1]#REF'!#REF!
Name _36ME: '[1]#REF'!#REF!
Name _4\MID: '[3]#REF'!#REF!
Name _4\MID: '[3]#REF'!#REF!
Name _5\SM: '[3]#REF'!#REF!
Name _7_0\LA: '[3]#REF'!#REF!
Name _8_0\MID: '[3]#REF'!#REF!
Name _8\LA: '[1]#REF'!#REF!
Name \a: #REF!
Name \c: [8]내역!#REF!
Name \d: [8]내역!#REF!
Name \p: #REF!
Name \q: #REF!
Name \r: #REF!
Name \s: #REF!
Name \z: #REF!
Name a: #REF!
Name b: #REF!
Name CCC: '대가 산츨근거(양산 고가철도교)'!CCC
Name CCC: '손해배상보험료 산출기준'!CCC
Name CCC: #N/A
Name d: #REF!
Name d: #REF!
Name HeadNo: #REF!
Name HeadNo: #REF!
Name HeadNo: #REF!
Name Lot: #REF!
Name Lot: #REF!
Name LotNumbering: #REF!

Sheet 내역서
A1: 내 역 서
A3: 공 종 | B3: 규 격 | C3: 수량 | D3: 단위 | E3: 합 계 | G3: 노 무 비 | I3: 재 료 비 | K3: 경 비 | M3: 비 고
E4: 단가 | F4: 금액 | G4: 단가 | H4: 금액 | I4: 단가 | J4: 금액 | K4: 단가 | L4: 금액
A5: o 2026년 부산항 항만시설물 정밀안전점검용역
A7: 1.직접인건비 | F7: =J7+H7+L7 -> 79011292 | H7: =SUM(H8:H9) -> 79011292 | L7: =SUM(L8:L9) -> 0
A8: 외 업 | B8: 고급기술자 | C8: ='투입 인원수 산출'!L14 -> 145.5256 | D8: 인·일 | E8: =I8+G8+K8 -> 310884 | F8: =J8+H8+L8 -> 45241580 | G8: =노임단가!E5 -> 310884 | H8: =TRUNC($C8*G8) -> 45241580 | L8: =TRUNC($C8*K8) -> 0
A9: 내 업 | B9: 고급기술자 | C9: ='투입 인원수 산출'!M14 -> 108.6248 | D9: 인·일 | E9: =I9+G9+K9 -> 310884 | F9: =J9+H9+L9 -> 33769712 | G9: =노임단가!E5 -> 310884 | H9: =TRUNC($C9*G9) -> 33769712 | L9: =TRUNC($C9*K9) -> 0
A10: 2. 제경비 | B10: (직접인건비)의 110% | C10: 110 | D10: % | E10: =+F7 -> 79011292 | F10: =TRUNC($C10/100*E10) -> 86912421
A11: 3. 기술료 | B11: (직적입건비+제경비)의 20% | C11: 20 | D11: % | E11: =+F7+F10 -> 165923713 | F11: =TRUNC($C11/100*E11)-48766 -> 33135976
A12: 4. 직접경비 | F12: =J12+H12+L12 -> 37677463 | L12: =SUM(L13:L19) -> 37677463
A13: 체재비 | C13: 1 | D13: 식 | E13: =I13+G13+K13 -> 12325607 | F13: =J13+H13+L13 -> 12325607 | K13: ='직접경비 산출근거'!O5+'직접경비 산출근거'!O6+'직접경비 산출근거'!O7+'직접경비 산출근거'!R12 -> 12325607 | L13: =TRUNC($C13*K13) -> 12325607
A14: 현지차량운행비 | C14: 1 | D14: 식 | E14: =I14+G14+K14 -> 1639573 | F14: =J14+H14+L14 -> 1639573 | K14: ='직접경비 산출근거'!H13 -> 1639573 | L14: =TRUNC($C14*K14) -> 1639573
A15: 현지보조인부 | B15: 외업인원수의 40% | C15: 1 | D15: 식 | E15: =I15+G15+K15 -> 13162561 | F15: =J15+H15+L15 -> 13162561 | K15: ='직접경비 산출근거'!I21 -> 13162561 | L15: =TRUNC($C15*K15) -> 13162561
A16: 위험수당 | B16: (외업인건비의10%) | C16: 1 | D16: 식 | E16: =I16+G16+K16 -> 4524158 | F16: =J16+H16+L16 -> 4524158 | K16: ='직접경비 산출근거'!M25 -> 4524158 | L16: =TRUNC($C16*K16) -> 4524158
A17: 기계․기구손료 | B17: (직접인건비의 5%) | C17: 1 | D17: 식 | E17: =I17+G17+K17 -> 3950564 | F17: =J17+H17+L17 -> 3950564 | K17: ='직접경비 산출근거'!H26 -> 3950564 | L17: =TRUNC($C17*K17) -> 3950564
A18: 보고서 인쇄비 | C18: 1 | D18: 식 | E18: =I18+G18+K18 -> 945000 | F18: =J18+H18+L18 -> 945000 | K18: ='직접경비 산출근거'!H29 -> 945000 | L18: =TRUNC($C18*K18) -> 945000
A19: 안전관리비 | C19: 1 | D19: 식 | F19: =J19+H19+L19 -> 1130000 | L19: 1130000 | M19: 일위 1
A20: 5. 선택과업 | F20: =J20+H20+L20 -> 20000000 | L20: =SUM(L21) -> 20000000
A21: 실시설계비 | C21: 1 | D21: 식 | F21: 20000000 | K21: 20000000 | L21: =TRUNC($C21*K21) -> 20000000
A22: 5. 부대공 | F22: =J22+H22+L22 -> 5000000 | L22: =SUM(L23:L24) -> 5000000
A23: 트럭탑재형 크레인 운행비 | B23: 1대(5Ton 크레인 ) | C23: 5 | D23: 일 | E23: 600000 | F23: =SUM(H23,J23,L23) -> 3000000 | K23: 600000 | L23: =C23*K23 -> 3000000
A24: 철도운행안전관리자(주간) | B24: 1인 | C24: 5 | D24: 일 | E24: 400000 | F24: =SUM(H24,J24,L24) -> 2000000 | K24: 400000 | L24: =C24*K24 -> 2000000
A26: 순 용 역 비 | B26: (1+2+3+4+5) | F26: =SUM(F7,F10,F11,F12,F20,F22) -> 261737152
A27: 손해배상보험료 | B27: 순용역비(항만)의 0.729% | C27: 1 | D27: 식 | F27: =일위대가표!G11 -> 1908063.8 | M27: 일위 2
A28: 공급가액 | F28: =F26+F27+N28 -> 2.6363636e+08 | N28: -8852
A29: 부가가치세 | F29: =(TRUNC(ROUND(F28*0.1,0))) -> 26363636
A30: 총 용역비 | F30: =F28+F29 -> 2.9e+08
F34: 290000000
F35: =F34/1.1 -> 2.6363636e+08
F36: =F28-F35 -> 0.20171636

Sheet 일위대가표
A1: 일 위 대 가 표
A3: 호 표 | B3: 품 명 | C3: 규 격 | D3: 수량 | E3: 단위 | F3: 합 계 | H3: 노무비 | J3: 재료비 | L3: 경 비 | N3: 비 고
F4: 단 가 | G4: 금 액 | H4: 단 가 | I4: 금 액 | J4: 단 가 | K4: 금 액 | L4: 단 가 | M4: 금 액
A5: 제1호표 | B5: 안전관리비 | G5: =SUM(G6,G7,G8,G9) -> 1130000 | M5: =SUM(M6,M7,M8,M9) -> 1130000
B6: 안전화 | D6: 5 | E6: EA | F6: =J6+H6+L6 -> 101000 | G6: =K6+I6+M6 -> 505000 | H6: 0 | I6: 0 | K6: 0 | L6: =견적단가!I4 -> 101000 | M6: =L6*D6 -> 505000 | N6: 견적가
B7: 안전모 | D7: 10 | E7: EA | F7: =J7+H7+L7 -> 17200 | G7: =K7+I7+M7 -> 172000 | H7: 0 | I7: 0 | J7: 0 | K7: 0 | L7: =견적단가!I5 -> 17200 | M7: =L7*D7 -> 172000 | N7: 견적가
B8: 안전피복류 | D8: 5 | E8: EA | F8: =J8+H8+L8 -> 91080 | G8: =K8+I8+M8 -> 455400 | H8: 0 | I8: 0 | J8: 0 | K8: 0 | L8: =견적단가!I6 -> 91080 | M8: =L8*D8 -> 455400 | N8: 견적가
B9: 단위절사 | D9: 1 | E9: 식 | F9: =J9+H9+L9 -> -2400 | G9: =K9+I9+M9 -> -2400 | H9: 0 | I9: 0 | J9: 0 | K9: 0 | L9: -2400 | M9: =L9*D9 -> -2400
A11: 제2호표 | B11: 손해배상공제료 | E11: 식 | G11: =K11+I11+M11 -> 1908063.8 | M11: =M12 -> 1908063.8
B12: 순용역비(교량)의 0.729% | D12: 0.729 | E12: % | L12: =내역서!F26 -> 261737152 | M12: =L12*D12/100 -> 1908063.8

Sheet 직접경비 산출근거
A1: □ 직접경비 산출근거
A3: 가. 여비 및 현장체제비
A4: (1) 체제비
B5: 일비 | E5: 20000 | I5: × | J5: =TRUNC(내역서!C8) -> 145 | N5: = | O5: =E5*J5 -> 2900000
B6: 숙박비 | E6: 60000 | I6: × | J6: =J5/2 -> 72.5 | N6: = | O6: =E6*J6 -> 4350000 | U6: (2인1실)
B7: 식비 | E7: 20000 | I7: × | J7: =TRUNC(내역서!C8,0) -> 145 | N7: = | O7: =E7*J7 -> 2900000
A9: (2) 여비
B10: 기준 : 철도운임 실비 일반실 기준(서울-부산 KTX 기준)
A11: - | C11: 투입횟수 : 8인/1회 (정밀안전점검)
A12: - | C12: 투입비용 : | F12: 59800 | H12: 원 | I12: × | J12: =('투입 인원수 산출'!L13)/8 -> 18.1907 | K12: 회 | L12: x | M12: 2 | N12: 회(왕복) | Q12: = | R12: =TRUNC(F12*J12*M12) -> 2175607 | U12: 원
A13: 나. 현지 차량운행비 : | H13: =S15+M17+J18 -> 1639573
A14: (1) 손 료 : 아반떼 1.6 Smart(20,340,000원, 2026년 1월 거래가격)
A15: - | C15: 20340000 | G15: × | H15: 1,547 × 10-7 | L15: × | M15: 8 | O15: × | P15: =ROUNDUP('투입 인원수 산출'!L14/4,0) -> 37 | R15: = | S15: =TRUNC(C15*1547*10^-7*M15*P15) -> 931393
A16: (2) 주연료(휘발유) : 10ℓ/일(1,740원 2025년 12월 거래가격)
A17: - | C17: 1740 | F17: × | G17: 10 | I17: × | J17: =P15 -> 37 | L17: = | M17: =TRUNC(C17*G17*J17) -> 643800
A18: (3) 잡 품 : 주연료비의 10% : | J18: =TRUNC(M17*0.1) -> 64380
A19: * 일수산정 : 외업인원수 4인 기준
A21: 다. 현지보조인부의 노임 : | I21: =X23 -> 13162561
A22: (1) 적용인수(외업인원수의 40% 적용) : | M22: =ROUND('투입 인원수 산출'!L14*0.4,2) -> 58.21
A23: (2) 적용 임금(특별인부의 시중 노임단가 적용) : | O23: =M22 -> 58.21 | S23: × | T23: =노임단가!E12 -> 226122 | W23: = | X23: =TRUNC(O23*T23) -> 13162561
A25: 라. 위험수당(현지 직접인건비의 10%) : | M25: =TRUNC(내역서!F8*0.1) -> 4524158
A26: 마. 기계 · 기구손료 : | H26: =N27 -> 3950564
A27: (1) 정밀점검 : 직접인건비의 5% : | N27: =TRUNC(AN27*0.05) -> 3950564 | AN27: =내역서!G8*('투입 인원수 산출'!L13+'투입 인원수 산출'!M13) -> 79011293 | AO27: 정밀
A29: 바. 보고서 등 인쇄비 : | H29: =SUM(N31) -> 945000
A30: (1) 정밀안전점검 보고서(9개소) : 300쪽, 3부
A31: - | C31: =5000+100*300 -> 35000 | F31: 원 × | G31: 3 | H31: 부 | I31: × | J31: 9 | K31: 개소 | M31: = | N31: =C31*G31*J31 -> 945000 | R31: 원
A32: * 표 지 : 5,000원/부
A33: * 제본(인쇄) : 100원/면

Sheet 투입 인원수 산출
A1: □ 투입 인원수 산출
A2: 구 분 | B2: 종별 | C2: 시설물별 | D2: 시 설 명 | E2: 준공일 | F2: 구조형식 | G2: 규모 | H2: 연장(m) | I2: 기준인원 | K2: 적용 조정율 | L2: 적용인원
I3: 외업 | J3: 내업 | L3: 외업 | M3: 내업
A4: 정밀안전점검 | B4: 2종 | C4: 외곽시설 | D4: ='적용 조정율 산출(항만시설물)'!D4 -> 감천항 동방파제 | E4: ='적용 조정율 산출(항만시설물)'!E4 -> 2013 | F4: ='적용 조정율 산출(항만시설물)'!F4 -> 혼성제 | H4: ='적용 조정율 산출(항만시설물)'!H4 -> 500 | I4: 30 | J4: 16 | K4: 0.35 | L4: =ROUND(I4*K4,2) -> 10.5 | M4: =ROUND(J4*K4,2) -> 5.6 | O4: 1
D5: ='적용 조정율 산출(항만시설물)'!D5 -> 감천항 서방파제 | E5: ='적용 조정율 산출(항만시설물)'!E5 -> 2013 | F5: ='적용 조정율 산출(항만시설물)'!F5 -> 혼성제 | H5: ='적용 조정율 산출(항만시설물)'!H5 -> 680 | I5: 30 | J5: 16 | K5: 0.391 | L5: =ROUND(I5*K5,2) -> 11.73 | M5: =ROUND(J5*K5,2) -> 6.26 | O5: 2
D6: ='적용 조정율 산출(항만시설물)'!D6 -> 다대포항 서방파제 | E6: ='적용 조정율 산출(항만시설물)'!E6 -> 2015 | F6: ='적용 조정율 산출(항만시설물)'!F6 -> 사석식경사제 | H6: ='적용 조정율 산출(항만시설물)'!H6 -> 700 | I6: 30 | J6: 16 | K6: 0.302 | L6: =ROUND(I6*K6,2) -> 9.06 | M6: =ROUND(J6*K6,2) -> 4.83 | O6: 3
D7: ='적용 조정율 산출(항만시설물)'!D7 -> 신선대 투기장 호안 | E7: ='적용 조정율 산출(항만시설물)'!E7 -> 2008 | F7: ='적용 조정율 산출(항만시설물)'!F7 -> 사석식경사제 | H7: ='적용 조정율 산출(항만시설물)'!H7 -> 547 | I7: 30 | J7: 16 | K7: 0.356 | L7: =ROUND(I7*K7,2) -> 10.68 | M7: =ROUND(J7*K7,2) -> 5.7 | O7: 4
D8: ='적용 조정율 산출(항만시설물)'!D8 -> 부산항 오륙도 방파제 | E8: ='적용 조정율 산출(항만시설물)'!E8 -> 1991 | F8: ='적용 조정율 산출(항만시설물)'!F8 -> 혼성제 | H8: ='적용 조정율 산출(항만시설물)'!H8 -> 1004 | I8: 30 | J8: 16 | K8: 0.524 | L8: =ROUND(I8*K8,2) -> 15.72 | M8: =ROUND(J8*K8,2) -> 8.38 | O8: 5
D9: ='적용 조정율 산출(항만시설물)'!D9 -> 부산항 조도방파제 | E9: ='적용 조정율 산출(항만시설물)'!E9 -> 1991 | F9: ='적용 조정율 산출(항만시설물)'!F9 -> 혼성제 | H9: ='적용 조정율 산출(항만시설물)'!H9 -> 700 | I9: 30 | J9: 16 | K9: 0.445 | L9: =ROUND(I9*K9,2) -> 13.35 | M9: =ROUND(J9*K9,2) -> 7.12 | O9: 6
B10: 기타 | C10: 외곽시설 | D10: ='적용 조정율 산출(항만시설물)'!D10 -> 감천항 돌제1 | E10: ='적용 조정율 산출(항만시설물)'!E10 -> 2016 | F10: ='적용 조정율 산출(항만시설물)'!F10 -> 중력식 | H10: ='적용 조정율 산출(항만시설물)'!H10 -> 130 | I10: 30 | J10: 16 | K10: 0.282 | L10: =ROUND(I10*K10,2) -> 8.46 | M10: =ROUND(J10*K10,2) -> 4.51 | O10: 7
D11: ='적용 조정율 산출(항만시설물)'!D10 -> 감천항 돌제1 | E11: ='적용 조정율 산출(항만시설물)'!E10 -> 2016 | F11: ='적용 조정율 산출(항만시설물)'!F10 -> 중력식 | H11: ='적용 조정율 산출(항만시설물)'!H10 -> 130 | I11: 30 | J11: 16 | K11: 0.283 | L11: =ROUND(I11*K11,2) -> 8.49 | M11: =ROUND(J11*K11,2) -> 4.53 | O11: 8
B12: 1종 | C12: 임항교통시설 | D12: 양산고가철도교 | E12: 2005 | F12: 일반철도 | H12: 1884 | L12: ='대가 산츨근거(양산 고가철도교)'!Y45*'적용 조정율 산출(항만시설물)'!T4 -> 57.5356 | M12: ='대가 산츨근거(양산 고가철도교)'!Y52*'적용 조정율 산출(항만시설물)'!T4 -> 61.6948 | O12: 9
A13: 소 계 | L13: =SUM(L4:L12) -> 145.5256 | M13: =SUM(M4:M12) -> 108.6248
A14: 합 계 | L14: =SUM(L13:L13) -> 145.5256 | M14: =SUM(M13:M13) -> 108.6248
A16: ※ 시설물의 안전 및 유지관리 실시 등에 관한 지침(국토교통부고시 제2025-470호) 별표 22. 시설물별 직접인건비 기준인원수 참조

Sheet 적용 조정율 산출(항만시설물)
A1: 가. 적용 조정율 산출(항만시설물)
A2: 구 분 | B2: 종별 | C2: 시설물별 | D2: 시 설 명 | E2: 준공년도 | F2: 구조형식 | G2: 규모 | H2: 연장(m) | I2: 수량 (선석 등) | J2: 대가 조정 | M2: 시설물별 조정비 | Q2: 총 조정비 | R2: 적용 조정율 | U2: [별표 23] 시설물별 조정비(제56조제1항 관련)
J3: 경과년수 | K3: 복잡도 | L3: 전차보고서제공 | M3: 해역 | N3: 구조형식 | O3: 연장별 | P3: 상면폭 | S3: 2026 | T3: 조정율
A4: 정밀안전점검 | B4: 2종 | C4: 외곽시설 | D4: 감천항 동방파제 | E4: 2013 | F4: 혼성제 | H4: 500 | I4: 1 | J4: =IF(S4>55,1.2,(IF(S4>35,1.15,(IF(S4>25,1.1,(IF(S4>15,1.05,1))))))) -> 1 | K4: 0.85 | L4: 0.95 | M4: 1 | N4: 1 | O4: 0.75 | P4: 1 | Q4: =ROUND((1+(M4-1)+(N4-1)+(O4-1)+(P4-1))*(1+(J4-1)+(K4-1)+(L4-1)),3) -> 0.6 | R4: 0.35 | S4: =$S$3-E4 -> 13 | T4: 0.6932
D5: 감천항 서방파제 | E5: 2013 | F5: 혼성제 | H5: 680 | I5: 1 | J5: =IF(S5>55,1.2,(IF(S5>35,1.15,(IF(S5>25,1.1,(IF(S5>15,1.05,1))))))) -> 1 | K5: 0.85 | L5: 0.95 | M5: 1 | N5: 1 | O5: 0.84 | P5: 1 | Q5: =ROUND((1+(M5-1)+(N5-1)+(O5-1)+(P5-1))*(1+(J5-1)+(K5-1)+(L5-1)),3) -> 0.672 | R5: 0.391 | S5: =$S$3-E5 -> 13
D6: 다대포항 서방파제 | E6: 2015 | F6: 사석식경사제 | H6: 700 | I6: 1 | J6: =IF(S6>55,1.2,(IF(S6>35,1.15,(IF(S6>25,1.1,(IF(S6>15,1.05,1))))))) -> 1 | K6: 0.85 | L6: 0.95 | M6: 1 | N6: 0.8 | O6: =0.75+0.05*2 -> 0.85 | P6: 1 | Q6: =ROUND((1+(M6-1)+(N6-1)+(O6-1)+(P6-1))*(1+(J6-1)+(K6-1)+(L6-1)),3) -> 0.52 | R6: 0.302 | S6: =$S$3-E6 -> 11
D7: 신선대 투기장 호안 | E7: 2008 | F7: 사석식경사제 | H7: 547 | I7: 1 | J7: =IF(S7>55,1.2,(IF(S7>35,1.15,(IF(S7>25,1.1,(IF(S7>15,1.05,1))))))) -> 1.05 | K7: 0.85 | L7: 0.95 | M7: 1 | N7: 0.8 | O7: 0.774 | P7: 1 | Q7: =ROUND((1+(M7-1)+(N7-1)+(O7-1)+(P7-1))*(1+(J7-1)+(K7-1)+(L7-1)),3) -> 0.488 | R7: 0.356 | S7: =$S$3-E7 -> 18
D8: 부산항 오륙도 방파제 | E8: 1991 | F8: 혼성제 | H8: 1004 | I8: 1 | J8: =IF(S8>55,1.2,(IF(S8>35,1.15,(IF(S8>25,1.1,(IF(S8>15,1.05,1))))))) -> 1.1 | K8: 0.85 | L8: 0.95 | M8: 1 | N8: 1 | O8: 1 | P8: 1 | Q8: =ROUND((1+(M8-1)+(N8-1)+(O8-1)+(P8-1))*(1+(J8-1)+(K8-1)+(L8-1)),3) -> 0.9 | R8: 0.524 | S8: =$S$3-E8 -> 35
D9: 부산항 조도방파제 | E9: 1991 | F9: 혼성제 | H9: 700 | I9: 1 | J9: =IF(S9>55,1.2,(IF(S9>35,1.15,(IF(S9>25,1.1,(IF(S9>15,1.05,1))))))) -> 1.1 | K9: 0.85 | L9: 0.95 | M9: 1 | N9: 1 | O9: 0.85 | P9: 1 | Q9: =ROUND((1+(M9-1)+(N9-1)+(O9-1)+(P9-1))*(1+(J9-1)+(K9-1)+(L9-1)),3) -> 0.765 | R9: 0.445 | S9: =$S$3-E9 -> 35
B10: 기타 | C10: 외곽시설 | D10: 감천항 돌제1 | E10: 2016 | F10: 중력식 | H10: 130 | I10: 1 | J10: =IF(S10>55,1.2,(IF(S10>35,1.15,(IF(S10>25,1.1,(IF(S10>15,1.05,1))))))) -> 1 | K10: 0.85 | L10: 1 | M10: 1 | N10: 1 | O10: 0.57 | P10: 1 | Q10: =ROUND((1+(M10-1)+(N10-1)+(O10-1)+(P10-1))*(1+(J10-1)+(K10-1)+(L10-1)),3) -> 0.485 | R10: 0.282 | S10: =$S$3-E10 -> 10
D11: 감천항 돌제2 | E11: 2016 | F11: 중력식 | H11: 130 | I11: 1 | J11: =IF(S11>55,1.2,(IF(S11>35,1.15,(IF(S11>25,1.1,(IF(S11>15,1.05,1))))))) -> 1 | K11: 0.85 | L11: 1 | M11: 1 | N11: 1 | O11: 0.57 | P11: 1 | Q11: =ROUND((1+(M11-1)+(N11-1)+(O11-1)+(P11-1))*(1+(J11-1)+(K11-1)+(L11-1)),3) -> 0.485 | R11: 0.283 | S11: =$S$3-E11 -> 10
A12: ※ 조정비 계 : [{1+(해역별 조정비 - 1.0)+(구조형식별 조정비 - 1.00)+(연장별 조정비 - 1.0)+(상면폭별 조정비 - 1.0)} ×{1+(경과년수 조정비 - 1.0)+(전차보고서 조정비 - 1.0)+(복잡도 조정비-1.0)}]

Sheet 수중조사 구간수량산출
A1: 3. 수중조사 구간 수량산출
A3: 구 분 | B3: 종별 | C3: 시 설 명 | D3: 구조형식 | E3: 연장(m) | F3: 수심(m) | G3: 수중조사 면적(㎡) | H3: 수중조사 구간 수 | I3: 수심 조정비 | J3: 시설물별 조정비 | K3: 적용 수중조사 구간수 | L3: 비 고
A4: 정밀안전점검 | B4: 2종 | C4: 다대포 서방파제 | D4: 사석식경사제 | E4: 700 | F4: 2 | G4: =E4*F4 -> 1400 | H4: =G4/1000 -> 1.4 | I4: 1 | J4: 0.4 | K4: =ROUND(H4*I4*J4,2) -> 0.56
C5: 감천항 동방파제 | D5: 혼성제 | E5: 500 | F5: 2 | G5: =E5*F5 -> 1000 | H5: =G5/1000 -> 1 | I5: 1 | J5: 0.4 | K5: =ROUND(H5*I5*J5,2) -> 0.4
C6: 감천항 서방파제 | D6: 혼성제 | E6: 650 | F6: 2 | G6: =E6*F6 -> 1300 | H6: =G6/1000 -> 1.3 | I6: 1 | J6: 0.4 | K6: =ROUND(H6*I6*J6,2) -> 0.52
C7: 신선대 준설토 투기장 호안 | D7: 사석식경사제 | E7: 547 | F7: 2 | G7: =E7*F7 -> 1094 | H7: =G7/1000 -> 1.094 | I7: 1 | J7: 0.4 | K7: =ROUND(H7*I7*J7,2) -> 0.44
C8: 조도방파제 | D8: 혼성제 | E8: 700 | F8: 2 | G8: =E8*F8 -> 1400 | H8: =G8/1000 -> 1.4 | I8: 1 | J8: 0.4 | K8: =ROUND(H8*I8*J8,2) -> 0.56
B9: 기타 | C9: 다대포 낫개방파제 | D9: 사석식경사제 | E9: 300 | F9: 2 | G9: =E9*F9 -> 600 | H9: =G9/1000 -> 0.6 | I9: 1 | J9: 0.4 | K9: =ROUND(H9*I9*J9,2) -> 0.24
A10: 합 계 | K10: =SUM(K4:K9) -> 2.72
A11: ※ [별표 26] 선택과업 비용 기준 (제60조 관련)(시설물의 안전 및 유지관리 실시 등에 관한 지침)
A15: ※ 시설물의 안전 및 유지관리 실시 등에 관한 지침」[별표 9] 의거 수중조사는 4년에 1회 이상 실시

Sheet 실시설계 산출근거
A1: 4. 실시설계 산출근거
A3: 구분 | B3: 보수·보강 | C3: 물량 | D3: 단위 | E3: 단가 | F3: 금액
A4: 감천항 중앙부두(기존, 확장) | B4: 보수·보강 | C4: 1 | D4: 식 | E4: 5000000000 | F4: 5000000000
B5: 균열주입 cw=0.3mm이상 | C5: 33.6 | D5: m | E5: 130000 | F5: 4370000
B6: 단면복구 | C6: 2.22 | D6: ㎡ | E6: 310000 | F6: 690000
B7: 단면복구(방청) | C7: 5.22 | D7: ㎡ | E7: 350000 | F7: 1830000
B8: 방충재 재설치 | C8: 1 | D8: EA | E8: 4000000 | F8: 4000000
A9: 연안여객부두(동측구간) | B9: 단면복구 (철근, t=50mm) | C9: 45.73 | D9: ㎡ | E9: 335000 | F9: 15320000
B10: 단면복구 (철근, t=100mm) | C10: 413.62 | D10: ㎡ | E10: 546000 | F10: 225837000
B11: 균열주입 | C11: 83 | D11: m | E11: 40000 | F11: 3320000
B12: 차막이 재설치 | C12: 8 | D12: m | E12: 275000 | F12: 2200000
B13: 가시설 | C13: 4337.05 | D13: ㎡ | E13: 27500 | F13: 119269000
A14: 부산항 우암부두 | B14: 단면복구 (철근, t=100mm) | C14: 5 | D14: m2 | E14: 533000 | F14: 2963000
B15: 계선주 재도장 | C15: 15 | D15: ea | E15: 97000 | F15: 1455000
A16: 부산항 제2부두(남측잔교) | B16: 단면복구 (철근, t=50mm) | C16: 122.64 | D16: ㎡ | E16: 335000 | F16: 41084000
B17: 단면복구 (철근, t=100mm) | C17: 473.35 | D17: ㎡ | E17: 546000 | F17: 258449000
B18: 균열주입 cw=0.3mm이상 | C18: 124.8 | D18: m | E18: 40000 | F18: 4992000
B19: 균열주입(수중) cw=0.3mm이상 | C19: 39.5 | D19: m | E19: 530000 | F19: 20935000
B20: 아노드 재설치 | C20: 11 | D20: ea | E20: 1588000 | F20: 17468000
B21: 차막이 재설치 | C21: 15 | D21: m | E21: 234000 | F21: 3510000
B22: 가시설 | C22: 2949.59 | D22: ㎡ | E22: 27500 | F22: 81114000
A23: 웅동하수처리시설 | F23: 20000000
A24: ① 순공사비 | F24: =SUM(F4:F23) -> 5828806000
A25: ② 제경비(①×50%) | F25: =F24*0.5 -> 2914403000
A26: ③ 총공사비(①+②) | F26: =F24+F25 -> 8743209000
E31: 구 분 | F31: 단위(원)
E32: 당해금액 | F32: =F26 -> 8743209000
E33: 큰금액 | F33: 2000000000
E34: 작은금액 | F34: 1000000000
E35: 작은금액요율 | F35: 3.55
E36: 큰금액요율 | F36: 3.27
E37: 공사비요율 | F37: =ROUND(F35-(F32-F34)*(F35-F36)/(F33-F34),3) -> 1.382
E38: 실시설계비 | F38: =TRUNC(F32*F37/100,0) -> 120831148

Sheet 대가 산츨근거(양산 고가철도교)
A1: 나. 대가 산출근거(양산 고가철도교)
A3: 〈산출근거 및 적용기준〉
A4: 1. 시설물의 안전 및 유지관리 실시 등에 관한 지침(국토교통부고시)(제2025-470호)(2025.09.01.)
A5: 2. 인원수 산정시 직선보간법을 적용한다.
A6: 3. 교량조정비 =［1+(차선별-1)+(용도별-1)+(구조형식별-1)］×［1+(복잡도-1)+(경년보정-1)］
A8: o 기준인원수 | Y8: (단위 : 인.일)
A9: 구 분 | B9: 규 격 | I9: 정 밀 안 전 점 검 | X9: 비 고
I10: 전체인원수 | N10: 외업인원수 | S10: 내업인원수
A11: 교 량 | F11: 50 | I11: 26 | N11: 10 | S11: =SUM(I11-N11) -> 16
F12: 100 | I12: 28 | N12: 11 | S12: =SUM(I12-N12) -> 17
F13: 300 | I13: 36 | N13: 16 | S13: =SUM(I13-N13) -> 20
F14: 500 | I14: 45 | N14: 21 | S14: =SUM(I14-N14) -> 24
F15: 1000 | I15: 67 | N15: 34 | S15: =SUM(I15-N15) -> 33
F16: 2000 | I16: 110 | N16: 60 | S16: =SUM(I16-N16) -> 50
A18: o 투입인원수
A19: 구 분 | F19: 정 밀 안 전 점 검 | X19: 비 고
F20: 전체인원수 | L20: 외업인원수 | S20: 내업인원수
A21: 단선(상행) | F21: =SUM(L21:W21) -> 55 | L21: =SUM(Y42) -> 27 | S21: =SUM(Y49) -> 28
A22: 단선(하행) | F22: =SUM(L22:W22) -> 52 | L22: =SUM(Y43) -> 25 | S22: =SUM(Y50) -> 27
A23: 복 선 | F23: =SUM(L23:W23) -> 65 | L23: =SUM(Y44) -> 31 | S23: =SUM(Y51) -> 34
A24: 계 | F24: =SUM(F21:K23) -> 172 | L24: =SUM(L21:R23) -> 83 | S24: =SUM(S21:W23) -> 89
A26: 1) 조정비 산정
A27: 시설물명 | B27: 연장(m) | C27: 차로별조정 | G27: 용도별조정 | K27: 구조형식별조정 | O27: 경과년수 조정 | S27: 복잡도조정 | W27: 조정비 계 | Y27: 비 고
C28: 차 선 | E28: 조정비 | G28: 용 도 | I28: 조정비 | K28: 구조형식 | M28: 조정비 | O28: 년 수 | Q28: 조정비 | S28: 복잡도 | U28: 조정비
A29: 단선(상행) | B29: 677.26 | C29: 2차로 | E29: 0.75 | G29: 일반철도 | I29: 1.3 | K29: 콘크리트 | M29: 1 | O29: 15년 미만 | Q29: 1 | S29: 보통 | U29: 1 | W29: =ROUNDUP((1+(E29-1)+(I29-1)+(M29-1))*(1+(U29-1)+(Q29-1)),2) -> 1.05 | Z29: 2005 | AA29: 2024 | AB29: =AA29-Z29+1 -> 20
A30: 단선(하행) | B30: 598.45 | C30: 2차로 | E30: 0.75 | G30: 일반철도 | I30: 1.3 | K30: 콘크리트 | M30: 1 | O30: 15년 미만 | Q30: 1 | S30: 보통 | U30: 1 | W30: =ROUNDUP((1+(E30-1)+(I30-1)+(M30-1))*(1+(U30-1)+(Q30-1)),2) -> 1.05
A31: 복 선 | B31: 608.33 | C31: 4차로 | E31: 1 | G31: 일반철도 | I31: 1.3 | K31: 콘크리트 | M31: 1 | O31: 15년 미만 | Q31: 1 | S31: 보통 | U31: 1 | W31: =ROUNDUP((1+(E31-1)+(I31-1)+(M31-1))*(1+(U31-1)+(Q31-1)),2) -> 1.3
A33: 2) 전체 인원수
A34: 구 분 | B34: 연장(m) | C34: 직 선 보 간 법 | V34: 기준인원 (조정) | X34: 조정비 | Y34: 조정 인원
A35: 단선(상행) | B35: =SUM(B29) -> 677.26 | C35: =SUM(I14) -> 45 | D35: ＋ | E35: ［( | F35: =SUM(I15) -> 67 | G35: - | H35: =SUM(C35) -> 45 | I35: ) | J35: × | K35: ( | L35: =SUM(B35) -> 677.26 | M35: - | N35: =SUM(F14) -> 500 | O35: )］ | P35: ÷ | Q35: ( | R35: =SUM(F15) -> 1000 | S35: - | T35: =SUM(F14) -> 500 | U35: ) | V35: =C35+((F35-H35)*(L35-N35))/(R35-T35) -> 52.79944 | X35: =SUM(W29) -> 1.05 | Y35: =ROUND((V35*X35),0) -> 55
A36: 단선(하행) | B36: =SUM(B30) -> 598.45 | C36: =SUM(C35) -> 45 | D36: ＋ | E36: ［( | F36: =SUM(F35) -> 67 | G36: - | H36: =SUM(C36) -> 45 | I36: ) | J36: × | K36: ( | L36: =SUM(B36) -> 598.45 | M36: - | N36: =SUM(N35) -> 500 | O36: )］ | P36: ÷ | Q36: ( | R36: =SUM(R35) -> 1000 | S36: - | T36: =SUM(T35) -> 500 | U36: ) | V36: =C36+((F36-H36)*(L36-N36))/(R36-T36) -> 49.3318 | X36: =SUM(W30) -> 1.05 | Y36: =ROUND((V36*X36),0) -> 52
A37: 복 선 | B37: =SUM(B31) -> 608.33 | C37: =SUM(C36) -> 45 | D37: ＋ | E37: ［( | F37: =SUM(F36) -> 67 | G37: - | H37: =SUM(C37) -> 45 | I37: ) | J37: × | K37: ( | L37: =SUM(B37) -> 608.33 | M37: - | N37: =SUM(N36) -> 500 | O37: )］ | P37: ÷ | Q37: ( | R37: =SUM(R36) -> 1000 | S37: - | T37: =SUM(T36) -> 500 | U37: ) | V37: =C37+((F37-H37)*(L37-N37))/(R37-T37) -> 49.76652 | X37: =SUM(W31) -> 1.3 | Y37: =ROUND((V37*X37),0) -> 65
A38: 총 계 | B38: =SUM(B35:B37) -> 1884.04 | Y38: =SUM(Y35:Y37) -> 172
A40: 3) 외업 인원수
A41: 구 분 | B41: 연장(m) | C41: 직 선 보 간 법 | V41: 기준인원 (조정) | X41: 조정비 | Y41: 조정 인원
A42: 단선(상행) | B42: =SUM(B35) -> 677.26 | C42: =SUM(N14) -> 21 | D42: ＋ | E42: ［( | F42: =SUM(N15) -> 34 | G42: - | H42: =SUM(C42) -> 21 | I42: ) | J42: × | K42: ( | L42: =SUM(B42) -> 677.26 | M42: - | N42: =SUM(F14) -> 500 | O42: )］ | P42: ÷ | Q42: ( | R42: =SUM(F15) -> 1000 | S42: - | T42: =SUM(F14) -> 500 | U42: ) | V42: =C42+((F42-H42)*(L42-N42))/(R42-T42) -> 25.60876 | X42: =SUM(W29) -> 1.05 | Y42: =ROUND((V42*X42),0) -> 27
A43: 단선(하행) | B43: =SUM(B36) -> 598.45 | C43: =SUM(C42) -> 21 | D43: ＋ | E43: ［( | F43: =SUM(F42) -> 34 | G43: - | H43: =SUM(H42) -> 21 | I43: ) | J43: × | K43: ( | L43: =SUM(B43) -> 598.45 | M43: - | N43: =SUM(N42) -> 500 | O43: )］ | P43: ÷ | Q43: ( | R43: =SUM(R42) -> 1000 | S43: - | T43: =SUM(T42) -> 500 | U43: ) | V43: =C43+((F43-H43)*(L43-N43))/(R43-T43) -> 23.5597 | X43: =SUM(W30) -> 1.05 | Y43: =ROUND((V43*X43),0) -> 25
A44: 복 선 | B44: =SUM(B37) -> 608.33 | C44: =SUM(C42) -> 21 | D44: ＋ | E44: ［( | F44: =SUM(F42) -> 34 | G44: - | H44: =SUM(C44) -> 21 | I44: ) | J44: × | K44: ( | L44: =SUM(B44) -> 608.33 | M44: - | N44: =SUM(N43) -> 500 | O44: )］ | P44: ÷ | Q44: ( | R44: =SUM(R43) -> 1000 | S44: - | T44: =SUM(T43) -> 500 | U44: ) | V44: =C44+((F44-H44)*(L44-N44))/(R44-T44) -> 23.81658 | X44: =SUM(W31) -> 1.3 | Y44: =ROUND((V44*X44),0) -> 31
A45: 총 계 | B45: =SUM(B42:B44) -> 1884.04 | Y45: =SUM(Y42:Y44) -> 83
A47: 4) 내업 인원수
A48: 구 분 | B48: 연장(m) | C48: 인 원 수 산 출 | Y48: 조정 인원
A49: 단선(상행) | B49: =SUM(B42) -> 677.26 | C49: 전체인원수 － 외업인원수 | Y49: =SUM(Y35-Y42) -> 28
A50: 단선(하행) | B50: =SUM(B43) -> 598.45 | C50: 전체인원수 － 외업인원수 | Y50: =SUM(Y36-Y43) -> 27
A51: 복 선 | B51: =SUM(B44) -> 608.33 | C51: 전체인원수 － 외업인원수 | Y51: =SUM(Y37-Y44) -> 34
A52: 총 계 | B52: =SUM(B49:B51) -> 1884.04 | Y52: =SUM(Y49:Y51) -> 89

Sheet 손해배상보험료 산출기준
A2: □ 손해배상공제료 산출기준
A148: 1단계 공제 요율 : | C148: 교량분야 1단계 공제(0.558%) < 항만분야 1단계 공제(0.569%)(적용)
A149: 2단계 공제 요율 : | C149: 0.0016
A150: 총 공제 요율 : | C150: 0.00569 | D150: + | E150: 0.0016 | F150: = | G150: 0.00729

Sheet 노임단가
A1: 노 임 단 가
A3: No | B3: 품 명 | C3: 규 격 | D3: 단위 | E3: 적용단가 | F3: 비 고 | I3: 기술등급 | J3: 건설
A4: 1 | B4: 특급기술자 | D4: 원 | E4: =J5 -> 373353 | F4: '26년 엔지니어링 노임단가 | I4: 기술사 | J4: 467217
A5: 2 | B5: 고급기술자 | D5: 원 | E5: =J6 -> 310884 | I5: 특급기술자 | J5: 373353
A6: 3 | B6: 중급기술자 | D6: 원 | E6: =J7 -> 295138 | I6: 고급기술자 | J6: 310884
A7: 4 | B7: 초급기술자 | D7: 원 | E7: =J8 -> 235459 | I7: 중급기술자 | J7: 295138
A8: 5 | B8: 고급숙련기술자 | D8: 원 | E8: =J9 -> 281075 | I8: 초급기술자 | J8: 235459
A9: 6 | B9: 중급숙련기술자 | D9: 원 | E9: =J10 -> 250087 | I9: 고급숙련기술자 | J9: 281075
A10: 7 | B10: 잠수부 | D10: 원 | E10: 387342 | F10: '26년 상반기 건설업 노임단가 | I10: 중급숙련기술자 | J10: 250087
A11: 8 | B11: 보통인부 | D11: 원 | E11: 172068 | I11: 초급숙련기술자 | J11: 218142
A12: 9 | B12: 특별인부 | D12: 원 | E12: 226122 | I12: 근무일수(일) | J12: =247/12 -> 20.583333
A14: ※ 한국엔지니어링협회 "2025 엔지니어링업체 임금실태조사결과 공표" 참조
A15: ※ 대한건설협회 "2026년 상반기 적용 건설업 임금실태 조사 보고서" 참조

Sheet 견적단가
B1: 견적단가
B3: No | C3: 품 명 | D3: 규 격 | E3: 단위 | F3: 합 계 | G3: 노무비 | H3: 재료비 | I3: 경 비 | J3: 비 고
B4: 1 | C4: 안전화 | E4: EA | F4: =SUM(G4:I4) -> 101000 | I4: 101000 | J4: 견적서 참조
B5: 2 | C5: 안전모 | E5: EA | F5: =SUM(G5:I5) -> 17200 | I5: 17200 | J5: 견적서 참조
B6: 3 | C6: 안전피복류 | E6: EA | F6: =SUM(G6:I6) -> 91080 | I6: 91080 | J6: 견적서 참조
